BEGIN:VCALENDAR
VERSION:2.0
PRODID:-//Q8 - ECPv4.5.5//NONSGML v1.0//EN
CALSCALE:GREGORIAN
METHOD:PUBLISH
X-WR-CALNAME:Q8
X-ORIGINAL-URL:https://q8asia.com.sg
X-WR-CALDESC:Events for Q8
BEGIN:VEVENT
DTSTART;VALUE=DATE:20250428
DTEND;VALUE=DATE:20250430
DTSTAMP:20260423T090352
CREATED:20230103T072726Z
LAST-MODIFIED:20250305T081135Z
UID:4270-1745798400-1746057599@q8asia.com.sg
SUMMARY:Advanced OSINT Training for Law Enforcement
DESCRIPTION:									Overview\n									Who should attend\n									Trainer\n									Case Studies\n									Partners\n									Venue\n									Brochure Download\n									Overview \nHighlights: \n\nIntensive 3 day course\nCertificate of Completion on request\n\nWhat you will learn from this Masterclass: \nThis Advanced OSINT Training for Law Enforcement equips investigators with cutting edge open-source intelligence (OSINT) techniques to enhance digital investigations\, intelligence gathering\, and operational security. Designed for law enforcement agencies\, this hands-on workshop covers advanced collection methods\, social media exploitation\, geospatial intelligence\, and digital verification tools. Participants will learn to uncover hidden networks\, track online threats\, authenticate digital evidence\, and conduct covert investigations while maintaining anonymity. \n\nDEVELOP advanced OSINT skills to track criminal activities\, uncover hidden networks\, and collect actionable intelligence for law enforcement operations.\nLEARN essential OPSEC techniques\, including VPNs\, sock puppets\, and counter-surveillance methods\, to conduct covert online investigations safely and effectively.\nACQUIRE techniques for metadata extraction\, geolocation tracking\, and source verification to counter misinformation and enhance case integrity.\nSTRUCTURE intelligence reports\, conduct link analysis\, and fuse OSINT with traditional intelligence disciplines (HUMINT\, SIGINT\, CYBINT) for more comprehensive investigations.\nAPPLY learned techniques in hands-on simulations\, including suspect tracking\, social media monitoring\, and digital footprint analysis\, to prepare for real-world law enforcement cases.\n\n									Who should attend \n\nLaw Enforcement & Intelligence Officers\nCybercrime Investigators\nDigital Forensics Analysts\nCounterterrorism Analysts\nCriminal Intelligence Analysts\nNational Security Officers\nCyber Threat Intelligence Analysts\nUndercover & Covert Operations Officers\nBorder Security & Immigration Officers\nFinancial Crime Investigators\nMilitary Intelligence Personnel\nPublic Order & Riot Control Intelligence Officers\nInterpol & International Law Enforcement Agents\nHuman Trafficking & Child Exploitation Investigators\nSpecial Branch & Counter-Extremism Officers\n\n									Trainer \nAbout our Expert Trainer \n\nMore than 25 Years in Intelligence & OSINT Operations\nDelivered OSINT and intelligence training for military\, police\, and government bodies\, including NATO\, the United Nations\, the UK Ministry of Defence\, and foreign security agencies.\nSpecialist in Digital Investigations & Threat Analysis\nStrategic Advisor on Intelligence & Security Operations\n\n									Case Studies \nReal world applications and examples: Cases and examples\, both current and historic will be given throughout\, to add depth and relevance to the methodology. \n									Partners \nInterested to be part of this training? \nPlease contact us at hello@q8asia.com.sg to discuss your requirements. \n									Venue \nParticipants will receive details about the venue closer to the date of the course. For more information\, please contact us at: hello@q8asia.com.sg. \n									Brochure Download \n\n\n\n\n\n\n \n \n \n—Albania (355)Algeria (213)Andorra (376)Angola (244)Anguilla (264)Antigua and Barbuda (268)Argentina (54)Armenia (374)Aruba (297)Ascension Island (247)Australia (61)Austria (43)Azerbaijan (994)Bahamas (242)Bahrain (973)Bangladesh (880)Barbados (246)Belarus (375)Belgium (32)Belize (501)Benin (229)Bermuda (441)Bhutan (975)Bolivia (591)Bosnia (387)Botswana (267)Brazil (55)Brunei (673)Bulgaria (359)Burkina Faso (226)Burundi (257)Cambodia (855)Cameroon (237)Canada (1)Cape Verde Islands (238)Cayman Islands (345)Central Africa Republic (236)Chad (235)Chile (56)China (86)Columbia (57)Comoros Island (269)Congo (242)Cook Islands (682)Costa Rica (506)Croatia (385)Cuba (53)Cyprus (357)Czech Republic (420)Democratic Republic of Congo (Zaire) (243)Denmark (45)Diego Garcia (246)Djibouti (253)Dominica Islands (767)Dominican Republic (809)Ecuador (593)Egypt (20)El Salvador (503)Equatorial Guinea (240)Eritrea (291)Estonia (372)Ethiopia (251)Faeroe Islands (298)Falkland Islands (500)Fiji Islands (679)Finland (358)France (33)French Guiana  (594)French Polynesia (689)Gabon (241)Georgia (995)Germany (49)Ghana (233)Gibraltar (350)Greece (30)Greenland (299)Grenada (473)Guadeloupe (590)Guam (671)Guatemala (502)Guinea Bissau (245)Guinea Republic (224)Guyana (592)Haiti (509)Honduras (503)Hong Kong (852)Hungary (36)Iceland (354)India (91)Indonesia (62)Iran (98)Iraq (964)Ireland (353)Israel (972)Italy (39)Ivory Coast (225)Jamaica (876)Japan (81)Jordan (962)Kazakhstan (7)Kenya (254)Kiribati (686)Korea\, North (850)Korea\, South (82)Kuwait (965)Kyrgyzstan (996)Laos (856)latvia (371)Lebanon (961)Lesotho (266)Liberia (231)Libya (218)Liechtenstein (423)Lithuania (370)Luxembourg (352)Macau (853)Macedonia (Fyrom) (389)Madagascar (261)Malawi (265)Malaysia (60)Maldives Republic (960)Mali (223)Malta (356)Mariana Islands (670)Marshall Islands (692)Martinique (596)Mauritius (230)Mayotte Islands (269)Mexico (52)Micronesia (691)Moldova (373)Monaco (377)Mongolia (976)Montserrat (664)Morocco (212)Mozambique (258)Myanmar (Burma) (95)Namibia (264)Nauru (674)Nepal (977)Netherlands (31)Netherlands Antilles (599)New Caledonia (687)New Zealand (64)Nicaragua (505)Niger (227)Nigeria (234)Niue Island (683)Norfolk Island (672)Norway (47)Oman (968)Pakistan (92)Palau (680)Palestine (970)Panama (507)Papua New Guinea (675)Paraguay (595)Peru (51)Philippines (63)Poland (48)Portugal (351)Puerto Rico (787)Qatar (974)Reunion Island (262)Romania (40)Russia (7)Rwanda (250)Samoa (American) (684)Samoa (Western) (685)San Marino (378)Sao Tome & Principe (239)Saudi Arabia (966)Senegal (221)Serbia (381)Seychelles (248)Sierra Leone (232)Singapore (65)Slovak Republic (421)Slovenia (386)Solomon Islands (677)Somalia (252)South Africa (27)Spain (34)Sri Lanka (94)St Helena (290)St Kitts & Nevia (869)St Lucia (758)Sudan (249)Surinam (597)Swaziland (268)Sweden (46)Switzerland (41)Syria (963)Taiwan (886)Tajikistan (992)Tanzania (255)Thailand (66)The Gambia (220)Togo (228)Tonga (676)Trinidad & Tobago (868)Tunisia (216)Turkey (90)Turkmenistan (993)Turks & Caicos Islands (649)Tuvalu (688)Uganda (256)Ukraine (380)United Arab Emirates (971)United Kingdom (44)Uruguay (598)USA (1)Uzbekistan (998)Vanuatu (678)Venezuela (58)Vietnam (84)Wallis & Futuna Islands (681)Yemen Arab Republic (967)Zambia (260)Zimbabwe (263) \n \n \n \n \nHow did you learn about this training?Email campaignLink from other websiteEvent brochureMagazine adSearch engineNewsgroup postColleagues recommendationAdvanced notice by postGoogle Ad WordsSocial media sitesWord of mouthSales contactOther\n \n \n\n		 \n
URL:https://q8asia.com.sg/event/advanced-osint-training-for-law-enforcement/
LOCATION:Singapore
CATEGORIES:Business,Government Services,Security & Defence
ATTACH;FMTTYPE=image/png:https://q8asia.com.sg/wp-content/uploads/2023/01/Q8_Masterclass_Header_Advanced-OSINT-For-Law-Enforcement.png
END:VEVENT
END:VCALENDAR